BEGIN:VCALENDAR
VERSION:2.0
PRODID:-//wp-events-plugin.com//7.1.7//EN
TZID:Europe/Paris
X-WR-TIMEZONE:Europe/Paris
BEGIN:VEVENT
UID:56@savourez-la-champagne-ardenne.fr
DTSTART;TZID=Europe/Paris;VALUE=DATE:20241019
DTEND;TZID=Europe/Paris;VALUE=DATE:20241024
DTSTAMP:20240910T133437Z
URL:https://savourez-la-champagne-ardenne.fr/events/sial/
SUMMARY:SIAL
DESCRIPTION:
ATTACH;FMTTYPE=image/jpeg:https://savourez-la-champagne-ardenne.fr/wp-cont
 ent/uploads/2024/09/SIAL.png
CATEGORIES:Informations Grand Est
END:VEVENT
BEGIN:VTIMEZONE
TZID:Europe/Paris
X-LIC-LOCATION:Europe/Paris
BEGIN:DAYLIGHT
DTSTART:20240331T030000
TZOFFSETFROM:+0100
TZOFFSETTO:+0200
TZNAME:CEST
END:DAYLIGHT
END:VTIMEZONE
END:VCALENDAR