BEGIN:VCALENDAR
VERSION:2.0
PRODID:-//wp-events-plugin.com//7.1.7//EN
TZID:Europe/Paris
X-WR-TIMEZONE:Europe/Paris
BEGIN:VEVENT
UID:57@savourez-la-champagne-ardenne.fr
DTSTART;TZID=Europe/Paris;VALUE=DATE:20250123
DTEND;TZID=Europe/Paris;VALUE=DATE:20250128
DTSTAMP:20240910T133929Z
URL:https://savourez-la-champagne-ardenne.fr/events/sirha/
SUMMARY:SIRHA
DESCRIPTION:
ATTACH;FMTTYPE=image/jpeg:https://savourez-la-champagne-ardenne.fr/wp-cont
 ent/uploads/2024/09/SIRHA.png
CATEGORIES:Informations Grand Est
LOCATION:SIRHA LYON\, Bd des Expositions\, \, Chassieu\, France\, 69680 \, 
 Auvergne-Rhône-Alpes\, France
X-APPLE-STRUCTURED-LOCATION;VALUE=URI;X-ADDRESS=Bd des Expositions\, \, Cha
 ssieu\, France\, 69680 \, Auvergne-Rhône-Alpes\, France;X-APPLE-RADIUS=10
 0;X-TITLE=SIRHA LYON:geo:0,0
END:VEVENT
BEGIN:VTIMEZONE
TZID:Europe/Paris
X-LIC-LOCATION:Europe/Paris
BEGIN:STANDARD
DTSTART:20241027T020000
TZOFFSETFROM:+0200
TZOFFSETTO:+0100
TZNAME:CET
END:STANDARD
END:VTIMEZONE
END:VCALENDAR