BEGIN:VCALENDAR
VERSION:2.0
PRODID:-//wp-events-plugin.com//7.1.7//EN
TZID:Europe/Paris
X-WR-TIMEZONE:Europe/Paris
BEGIN:VEVENT
UID:6@savourez-la-champagne-ardenne.fr
DTSTART;TZID=Europe/Paris:20220615T110000
DTEND;TZID=Europe/Paris:20220615T123000
DTSTAMP:20220726T132902Z
URL:https://savourez-la-champagne-ardenne.fr/events/webinaire-la-marque-em
 ployeur-en-agro-alimentaire/
SUMMARY:Webinaire : La marque employeur en agro-alimentaire
DESCRIPTION:\n\n\n\n\nInvitation : Club RH « La Marque Employeur »\n\nA
 vez-vous déjà entendu parlé de la Marque Employeur ?\n\nLa Marque Emp
 loyeur est l’ensemble des problématiques d’image de marque liées à 
 la gestion des ressources humaines.  C’est un élément clé pour le re
 crutement\, l’évolution des salariés et l’image positive de l’entr
 eprise.\n\nLa marque employeur nécessite\, aujourd’hui\, une attention 
 toute particulière et un investissement en termes de communication pour s
 ’assurer de la bonne réputation de l’entreprise et faciliter le recru
 tement de futurs talents.\n\nSi vous êtes intéressé par cette probléma
 tique et si vous souhaitez par la suite mettre en place la Marque Employeu
 r au sein de votre entreprise\, nous vous proposons de participer à notre
  club RH.\n\nLes Arias du Grand Est s’associent à l’APECITA \, pour 
 organiser un webinaire de présentation : « La marque employeur en agro
 -alimentaire » le 15 juin 2022 de 11h à 12h30 en visio-conférence\n\nAU
  PROGRAMME :\n\n 	Rappel du contexte actuel\n 	Définition de la Marque E
 mployeur\n 	Pourquoi la mettre en place ? Bénéfices/Risques\n 	Comment 
 la mettre en place concrètement au sein de votre structure ?\n 	Ses doma
 ines d’application – Exemples d’actions.\n\nINTERVENANTS :\n\nCe CL
 UB RH sera animé par l’APECITA et plus précisément par Laurence STE
 PHAN et Emmanuelle DAZY.\n\nINSCRIPTIONS :\n\n 	Webinaire gratuit\, ré
 servé aux entreprises agroalimentaires du Grand Est\n 	Inscription obliga
 toire ici.  Le lien vers le webinaire vous sera envoyé 24h avant.\n 	Ren
 seignements complémentaires auprès de Pauline GUYOT – Agria Grand Est 
 – 06.17.40.30.04.\n\nClub RH organisé avec le soutien de la Région Gra
 nd Est.\n\n\n\n\n\n\n\n\n\n\n\n\n\n\n\n\n
ATTACH;FMTTYPE=image/jpeg:https://savourez-la-champagne-ardenne.fr/wp-cont
 ent/uploads/2022/06/i3A_marque_employeur_apecita.jpg
CATEGORIES:Information externe
LOCATION:En\, 1 rue test\, ligne\, France\, France
X-APPLE-STRUCTURED-LOCATION;VALUE=URI;X-ADDRESS=1 rue test\, ligne\, France
 \, France;X-APPLE-RADIUS=100;X-TITLE=En:geo:0,0
END:VEVENT
BEGIN:VTIMEZONE
TZID:Europe/Paris
X-LIC-LOCATION:Europe/Paris
BEGIN:DAYLIGHT
DTSTART:20220327T030000
TZOFFSETFROM:+0100
TZOFFSETTO:+0200
TZNAME:CEST
END:DAYLIGHT
END:VTIMEZONE
END:VCALENDAR